Workbook

Sheet Info
A2: Part 1 QUESTION
A4: Investment Asking Price
A5: Asking price per SF | B5: 135
A6: Purchasing cost | B6: 0.02
A7: Building Size SF | B7: 60390
A8: Tenants | B8: 3
A9: Price for Total SF | B9: =B7*B5 -> 8152650
A10: Total Asking Price | B10: =B9+(B6*B9) -> 8315703
A12: Investment Returns
A13: Tenant 1
A14: Currently renting SF | B14: 24156
A15: Annual value per SF | B15: 25
A16: Lease expiry Yrs | B16: 2
A18: Tenant 2
A19: Currently renting SF | B19: 10266
A20: Annual value per SF | B20: 23.5
A21: Lease expiry Yrs | B21: 4
A22: Annual increase | B22: 0.025
A24: Tenant 3
A25: Currently renting SF | B25: =B7-B14-B19 -> 25968
A26: Annual value per SF | B26: 22
A27: Lease expiry Yrs | B27: 6
A28: Rental increase $ per SF | B28: 2 | C28: Beginning of 2nd and 4th year
A30: Annual Investment Costs
A31: Operating Expense per SF | B31: 8.5 | C31: per year
A32: Elevator Annual Capital Reserve Expense | B32: 150000 | C32: for a period of three years
A34: Notes
A35: V&C after first lease expiry | B35: 0.05 | C35: of the PGI
A36: Increase of V&C after the expiry of the second lease | B36: 0.1 | C36: of the PGI
A38: Current annual market rate per SF | B38: 19.75
A39: Market rate of Rent decrease per year | B39: 0.035 | C39: For the next 3 years
A40: Market rate of Rent increase per year | B40: 0.025 | C40: For te next 4 years after depreciation
A42: Annual increase in Operation Cost | B42: 0.025 | C42: With inflation
A43: Landlord cover operation cost | B43: 0.25 | C43: of the remaining operating expenses
A45: Elevetor replacement cost | B45: 450000 | C45: in year 4
A47: Building Depreciation years | B47: 39 | C47: Mid year convention for 1st and last year
A48: value of improvenemts | B48: 0.8 | C48: of the purchasing price
A50: Loan to Value Ratio | B50: 0.75
A51: Going out cap rate | B51: 0.085
A52: Investor's return/Discount rate | B52: 0.1
...

Sheet ARM
A2: ARM 1
A4: Mortgage Amount | H4: =70%*8152650 -> 5706855
A5: Current Real Rate | H5: 0.04
A6: Inflation index (year 2) | H6: 0.03
A7: Inflation index (year 3) | H7: 0.025
A8: Inflation index (year 4) | H8: 0.018
A9: Inflation index (year 5) | H9: 0.023
A10: Margin | H10: 0.02
A11: Discount | H11: 0.02
A12: Amortization term | H12: 30
A15: Year | B15: Principle Balance | C15: Annual PMT | D15: Interest | E15: Interest PMT | F15: Amortization | G15: FV | H15: Ending Balance | I15: Index | J15: Margin
A16: 0
A17: 1 | B17: =H4 -> 5706855 | C17: =-PMT(D17,H12,B17,0) -> 330027.99 | D17: =$H$5 -> 0.04 | E17: =B17*D17 -> 228274.2 | F17: =C17-E17 -> 101753.79 | G17: =-FV($H$5,1,-C17,B17) -> 5605101.2 | H17: =G17*(1+I17) -> 5605101.2 | I17: 0 | J17: =$H$10 -> 0.02
A18: 2 | B18: =H17 -> 5605101.2 | C18: =-PMT(D18,$H$12-A17,B18,0) -> 370191.8 | D18: =H6+J18 -> 0.05 | E18: =B18*D18 -> 280255.06 | F18: =C18-E18 -> 89936.735 | G18: =-FV($H$5,1,-C18,B18) -> 5459113.5 | H18: =G18 -> 5459113.5 | I18: 0.03 | J18: =$H$10 -> 0.02
A19: 3 | B19: =H18 -> 5459113.5 | C19: =-PMT(D19,$H$12-A18,B19,0) -> 346767.28 | D19: =H7+J19 -> 0.045 | E19: =B19*D19 -> 245660.11 | F19: =C19-E19 -> 101107.18 | G19: =-FV($H$5,1,-C19,B19) -> 5330710.7 | H19: =G19 -> 5330710.7 | I19: 0.025 | J19: =$H$10 -> 0.02
A20: 4 | B20: =H19 -> 5330710.7 | C20: =-PMT(D20,$H$12-A19,B20,0) -> 319163.16 | D20: =H8+J20 -> 0.038 | E20: =B20*D20 -> 202567.01 | F20: =C20-E20 -> 116596.15 | G20: =-FV($H$5,1,-C20,B20) -> 5224776 | H20: =G20 -> 5224776 | I20: 0.018 | J20: =$H$10 -> 0.02
A21: 5 | B21: =H20 -> 5224776 | C21: =-PMT(D21,$H$12-A20,B21,0) -> 326900.55 | D21: =H10+J21 -> 0.04 | E21: =B21*D21 -> 208991.04 | F21: =C21-E21 -> 117909.51 | G21: =-FV($H$5,1,-C21,B21) -> 5106866.5 | H21: =G21 -> 5106866.5 | I21: 0.02 | J21: =$H$10 -> 0.02
A23: IRR
A25: ARM 2
A27: Mortgage Amount | H27: 8152650
A28: Current Real Rate | H28: 0.065
A29: Inflation index (year 2) | H29: 0.03
A30: Inflation index (year 3) | H30: 0.025
A31: Inflation index (year 4) | H31: 0.018
A32: Inflation index (year 5) | H32: 0.023
A33: Margin | H33: 0.02
A34: Cap | H34: 0.03
A35: Prepayment penalty | H35: 0.03
A36: Amortization term | H36: 30
A39: Year | B39: Principle Balance | C39: Annual PMT | D39: Interest | E39: Interest PMT | F39: Amortization | G39: FV | H39: Ending Balance | I39: Index | J39: Margin | K39: Cap
A40: 0
A41: 1 | B41: =70%*H27 -> 5706855 | C41: 0 | D41: =$H$28 -> 0.065 | E41: =$B$41*$D$41 -> 370945.58 | F41: 0 | G41: =-FV($H$5,1,-C41,B41) -> 5935129.2 | H41: =G41 -> 5935129.2 | I41: 0 | J41: =$H$10 -> 0.02 | K41: =$H$34 -> 0.03
A42: 2 | B42: =H41 -> 5935129.2 | C42: 0 | D42: =$H$28 -> 0.065 | E42: =$B$41*$D$41 -> 370945.58 | F42: 0 | G42: =-FV($H$5,1,-C42,B42) -> 6172534.4 | H42: =G42 -> 6172534.4 | I42: 0.03 | J42: =$H$10 -> 0.02 | K42: =$H$34 -> 0.03
A43: 3 | B43: =H42 -> 6172534.4 | C43: 0 | D43: =$H$28 -> 0.065 | E43: =$B$41*$D$41 -> 370945.58 | F43: 0 | G43: =-FV($H$5,1,-C43,B43) -> 6419435.7 | H43: =G43 -> 6419435.7 | I43: 0.025 | J43: =$H$10 -> 0.02 | K43: =$H$34 -> 0.03
A44: 4 | B44: =H43 -> 6419435.7 | C44: =-PMT($H$28,$H$36-A43,B44,0) -> 510492 | D44: =I44+J44 -> 0.038 | E44: =B44*D44 -> 243938.56 | F44: =C44-E44 -> 266553.44 | G44: =-FV($H$5,1,-C44,B44) -> 6165721.2 | H44: =B44-F44 -> 6152882.3 | I44: 0.018 | J44: =$H$10 -> 0.02 | K44: =$H$34 -> 0.03
A45: 5 | B45: =H44 -> 6152882.3 | C45: =-PMT($H$28,$H$36-A44,B45,0) -> 496505.6 | D45: =I45+J45 -> 0.04 | E45: =B45*D45 -> 246115.29 | F45: =C45-E45 -> 250390.3 | G45: =-FV($H$5,1,-C45,B45) -> 5902492 | H45: =B45-F45 -> 5902492 | I45: 0.02 | J45: =$H$10 -> 0.02 | K45: =$H$34 -> 0.03 | M45: Effective interest rate?
A47: IRR
A49: ARM 3
A51: Mortgage Amount | H51: 8152650
A52: Current Real Rate | H52: 0.055
...

Sheet Recaptured Depreciation
A2: Purchase price | C2: =Info!B10 -> 8315703 | E2: Capital expense (CAPEX) | G2: 450000 | H2: year 4(end of year 3/beginning year 4)
A3: Building value (65%) | C3: =C2*0.65 -> 5405207 | E3: Annual depreciation | G3: =G2/39 -> 11538.462
A4: Annual depreciation | C4: =C3/39 -> 138595.05
A6: Year | B6: Book value Building | C6: Book value CAPEX | D6: Book value total | E6: Recaptured depreciation total | F6: Recaptured depreciation building only | G6: Recaptured depreciation CAPEX
A7: 1 | B7: =C2-(C4/2) -> 8246405.5 | D7: =B7 -> 8246405.5
A8: 2 | B8: =B7-$C$4 -> 8107810.4 | D8: =B8 -> 8107810.4
A9: 3 | B9: =B8-$C$4 -> 7969215.4 | D9: =B9+C9 -> 7969215.4
A10: 4 | B10: =B9-$C$4 -> 7830620.3 | C10: 450000 | D10: =B10+C10 -> 8280620.3
A11: 5 | B11: =B10-$C$4 -> 7692025.3 | C11: =C10-G3 -> 438461.54 | D11: =B11+C11 -> 8130486.8
A12: 6 | B12: =B11-$C$4 -> 7553430.2 | C12: =C11-G3 -> 426923.08 | D12: =B12+C12 -> 7980353.3 | E12: =(C2-B12)+(G2-C12) -> 785349.7 | F12: =C2-B12 -> 762272.77 | G12: =G2-C12 -> 23076.923

Sheet Cashflow
A2: Yearly Cashflows
A4: Year 0 | B4: Tenant 1 | C4: Tenant 2 | D4: Tenant 3 | E4: TOTAL
A5: Income
A6: Currently renting SF | B6: 24156 | C6: 10266 | D6: 25968 | E6: =SUM(B6:D6) -> 60390
A7: Annual value per SF | B7: 25 | C7: 23.5 | D7: 22 | E7: =SUM(B7:D7) -> 70.5
A8: Total rent per year | B8: =B6*B7 -> 603900 | C8: =C6*C7 -> 241251 | D8: =D6*D7 -> 571296 | E8: =SUM(B8:D8) -> 1416447
A10: Expense
A11: Operating expenses | B11: =-8.5*B6*25% -> -51331.5 | C11: =-8.5*C6*25% -> -21815.25 | D11: =-8.5*D6*25% -> -55182 | E11: =-8.5*E6*25% -> -128328.75
A12: Elevator Capital Reserve (assume the cost is distributed evenly on all tenants) | B12: =-50000 -> -50000 | C12: -50000 | D12: -50000 | E12: =SUM(B12:D12) -> -150000
A13: Annual Mortgage Loan Repayment | E13: =-ARM!C17 -> -330027.99
A14: Total Expense | E14: =SUM(E11:E13) -> -608356.74
A16: Income before tax | E16: =E8+E14 -> 808090.26
A21: Year 1 | B21: Tenant 1 | C21: Tenant 2 | D21: Tenant 3 | E21: TOTAL
A22: Income
A23: Currently renting SF | B23: 24156 | C23: 10266 | D23: 25968 | E23: =SUM(B23:D23) -> 60390
A24: Annual value per SF | B24: 25 | C24: =23.5*102.5% -> 24.0875 | D24: =22+2 -> 24 | E24: =SUM(B24:D24) -> 73.0875
A25: Total rent per year | B25: =B23*B24 -> 603900 | C25: =C23*C24 -> 247282.27 | D25: =D23*D24 -> 623232 | E25: =SUM(B25:D25) -> 1474414.3
A27: Expense
A28: Operating expenses | B28: =-8.5*102.5%*25%*B23 -> -52614.787 | C28: =-8.5*102.5%*25%*C23 -> -22360.631 | D28: =-8.5*102.5%*25%*D23 -> -56561.55 | E28: =-8.5*102.5%*25%*E23 -> -131536.97
A29: Elevator Capital Reserve (assume the cost is distributed evenly on all tenants) | B29: =-50000 -> -50000 | C29: -50000 | D29: -50000 | E29: =SUM(B29:D29) -> -150000
A30: Annual Mortgage Loan Repayment | E30: =-ARM!C18 -> -370191.8
A31: Total Expense | E31: =SUM(E28:E30) -> -651728.76
A33: Income before tax | E33: =E25+E31 -> 822685.51
A38: Year 2 | B38: Tenant 1 | C38: Tenant 2 | D38: Tenant 3 | E38: TOTAL
A39: Income
A40: Currently renting SF | B40: 24156 | C40: 10266 | D40: 25968 | E40: =SUM(B40:D40) -> 60390
A41: Annual value per SF | B41: ='[1]Rent Market Project'!B5 -> 18.391694 | C41: =23.5*((102.5%)^2) -> 24.689687 | D41: =22+2 -> 24 | E41: =SUM(B41:D41) -> 67.081381
A42: Total rent per year | B42: =B40*B41 -> 444269.75 | C42: =C40*C41 -> 253464.33 | D42: =D40*D41 -> 623232 | E42: =SUM(B42:D42) -> 1320966.1
A44: Expense
A45: Operating expenses | B45: =-8.5*((102.5%)^2)*25%*B40 -> -53930.157 | C45: =-8.5*((102.5%)^2)*25%*C40 -> -22919.647 | D45: =-8.5*((102.5%)^2)*25%*D40 -> -57975.589 | E45: =-8.5*((102.5%)^2)*25%*E40 -> -134825.39
A46: Vacancy and Collection Loss | B46: =-5%*B42 -> -22213.488 | C46: =-5%*C42 -> -12673.217 | D46: =-5%*D42 -> -31161.6 | E46: =-5%*E42 -> -66048.304
A47: Elevator Capital Reserve | B47: -50000 | C47: -50000 | D47: -50000 | E47: =SUM(B47:D47) -> -150000
A48: Annual Mortgage Loan Repayment | E48: =-ARM!C19 -> -346767.28
A49: Total Expense | E49: =SUM(E45:E48) -> -697640.98
A51: Income before tax | E51: =E42+E49 -> 623325.11
A56: Year 3 | B56: Tenant 1 | C56: Tenant 2 | D56: Tenant 3 | E56: TOTAL
A57: Income
A58: Currently renting SF | B58: 24156 | C58: 10266 | D58: 25968 | E58: =SUM(B58:D58) -> 60390
A59: Annual value per SF | B59: ='[1]Rent Market Project'!B6 -> 17.747984 | C59: =23.5*((102.5%)^3) -> 25.30693 | D59: =22+2+2 -> 26 | E59: =SUM(B59:D59) -> 69.054914
A60: Total rent per year | B60: =B58*B59 -> 428720.31 | C60: =C58*C59 -> 259800.94 | D60: =D58*D59 -> 675168 | E60: =SUM(B60:D60) -> 1363689.3
...

Sheet Proforma and DCF
A1: Year | B1: 1 | C1: 2 | D1: 3 | E1: 4 | F1: 5
A2: Operating Cash Flows
A3: PGI | B3: ='[1]Yearly Cashflow'!E25 -> 1474414.3 | C3: ='[1]Yearly Cashflow'!E42 -> 1320966.1 | D3: ='[1]Yearly Cashflow'!E60 -> 1363689.3 | E3: ='[1]Yearly Cashflow'!E77 -> 1301362.1 | F3: ='[1]Yearly Cashflow'!E94 -> 1317017
A4: V&C | B4: 0 | C4: ='[1]Yearly Cashflow'!E46 -> -66048.304 | D4: ='[1]Yearly Cashflow'!E64 -> -68184.463 | E4: ='[1]Yearly Cashflow'!E81 -> -130136.21 | F4: ='[1]Yearly Cashflow'!E98 -> -131701.7
A5: EGI | B5: =B3-B4 -> 1474414.3 | C5: =C3+C4 -> 1254917.8 | D5: =D3+D4 -> 1295504.8 | E5: =E3+E4 -> 1171225.9 | F5: =F3+F4 -> 1185315.3
A6: OE | B6: ='[1]Yearly Cashflow'!E45 -> -134825.39 | C6: ='[1]Yearly Cashflow'!E63 -> -138196.03 | D6: ='[1]Yearly Cashflow'!E80 -> -141650.93 | E6: ='[1]Yearly Cashflow'!E97 -> -145192.2 | F6: =-8.5*((102.5%)^6)*25%*'[1]Yearly Cashflow'!E92 -> -148822.01
A7: CER | B7: ='[1]Yearly Cashflow'!E29 -> -150000 | C7: ='[1]Yearly Cashflow'!E47 -> -150000 | D7: - | E7: - | F7: -
A8: NOI | B8: =SUM(B5:B7) -> 1189588.9 | C8: =SUM(C5:C7) -> 966721.75 | D8: =SUM(D5:D7) -> 1153853.9 | E8: =SUM(E5:E7) -> 1026033.7 | F8: =SUM(F5:F6) -> 1036493.3
A9: DS | B9: =ARM!C17 -> 330027.99 | C9: =ARM!C18 -> 370191.8 | D9: =ARM!C19 -> 346767.28 | E9: =ARM!C20 -> 319163.16
A10: BTCF | B10: =B8+B9 -> 1519616.9 | C10: =C8+C9 -> 1336913.5 | D10: =D8+D9 -> 1500621.1 | E10: =E8+E9 -> 1345196.9
A11: Tax | B11: =-B19 -> -277928.29 | C11: =-C19 -> -181731.5 | D11: =-D19 -> -257316.74 | E11: =-E19 -> -256928.2
A12: ATCF | B12: =B10+B11 -> 1241688.6 | C12: =C10+C11 -> 1155182.1 | D12: =D10+D11 -> 1243304.4 | E12: =E10+E11 -> 1088268.7
A14: Tax liability
A15: NOI | B15: =B8 -> 1189588.9 | C15: =C8 -> 966721.75 | D15: =D8 -> 1153853.9 | E15: =E8 -> 1026033.7 | F15: =F8 -> 1036493.3
A16: Depreciation | B16: =-'[1]Building Purchase&Depreciation'!B102 -> -167233.85 | C16: =-'[1]Building Purchase&Depreciation'!B103 -> -167233.85 | D16: =-SUM('[1]Building Purchase&Depreciation'!B104:C104) -> -173003.08 | E16: =-SUM('[1]Building Purchase&Depreciation'!B105:C105)/2 -> -89386.154
A17: Interest | B17: =-ARM!E17 -> -228274.2 | C17: =-ARM!E18 -> -280255.06 | D17: =-ARM!E19 -> -245660.11 | E17: =-ARM!E20 -> -202567.01
A18: Taxable income | B18: =SUM(B15:B17) -> 794080.84 | C18: =SUM(C15:C17) -> 519232.85 | D18: =SUM(D15:D17) -> 735190.68 | E18: =SUM(E15:E17) -> 734080.57
A19: Tax | B19: =35%*B18 -> 277928.29 | C19: =35%*C18 -> 181731.5 | D19: =35%*D18 -> 257316.74 | E19: =35%*E18 -> 256928.2
A22: Equity reversion | C22: Capital Gains Tax
A23: Sales price | B23: =F8/(8.5%) -> 12194039 | C23: NSP | D23: =B25 -> 11950158
A24: Selling costs | B24: =-2%*B23 -> -243880.78
A25: NSP | B25: =B23+B24 -> 11950158
A26: Mortgage balance | B26: =ARM!H21 -> 5106866.5
A27: BTER | B27: =B25-B26 -> 6843291.5
A28: CGT | B28: =-17%*(D23-(B30+B31+'[1]Building Purchase&Depreciation'!B98)) -> -437219.39
A29: ATER | B29: =(B27+B28) -> 6406072.1
A30: Purchasing Price | B30: ='[1]Building Purchase&Depreciation'!B3 -> 8152650
A31: CAPEX | B31: ='[1]Building Purchase&Depreciation'!B97 -> 450000
A32: Investment Return Rate | B32: 0.1
A34: Year | B34: 0 | C34: 1 | D34: 2 | E34: 3 | F34: 4 | G34: 5
A35: Discounted Cash Flow Analysis (DCF) | H35: NPV | I35: IRR
A36: ATCF | C36: =1439834.35/((1+10%)^C34) -> 1308940.3 | D36: =B12/((1+10%)^D34) -> 1026188.9 | E36: =C12/((1+10%)^E34) -> 867905.37 | F36: =D12/((1+10%)^F34) -> 849193.64 | G36: =E12/((1+10%)^G34) -> 675729.23
A37: ATER | G37: =B29/((1+10%)^G34) -> 3977666.8
A38: Initial equity investment | B38: =-30%*B30 -> -2445795
A39: Total CF | B39: =SUM(B36:B38) -> -2445795 | C39: =C36 -> 1308940.3 | D39: =D36 -> 1026188.9 | E39: =E36 -> 867905.37 | F39: =F36 -> 849193.64 | G39: =G36+G37 -> 4653396 | H39: =NPV(B32, C39:G39)+B39 -> 3713714.4 | I39: =IRR(B39:G39) -> 0.48160935
A41: The investment has a high rate of IRR and is therefore worth undertaking.
